BEGIN:VCALENDAR
VERSION:2.0
PRODID:icalendar-ruby
CALSCALE:GREGORIAN
METHOD:PUBLISH
BEGIN:VEVENT
DTSTAMP:20260423T105202Z
UID:12-320345@bethelholiness.com
DTSTART:20260826T220000Z
DTEND:20260826T230000Z
CLASS:PUBLIC
CREATED:20260422T231522
DESCRIPTION:Prayer &amp\; Praise Service
LAST-MODIFIED:20260422T231522
LOCATION:6060 N U.S. Highway 31 Columbus\, IN 47201
SUMMARY:Prayer & Praise Service
URL;VALUE=URI:https://www.bethelholiness.com/events/prayer-praise-service/2
 026-08-26
END:VEVENT
END:VCALENDAR
