BEGIN:VCALENDAR
VERSION:2.0
PRODID:icalendar-ruby
CALSCALE:GREGORIAN
METHOD:PUBLISH
BEGIN:VEVENT
DTSTAMP:20260423T153648Z
UID:12-320542@bethelholiness.com
DTSTART:20260916T220000Z
DTEND:20260916T230000Z
CLASS:PUBLIC
CREATED:20260423T084538
DESCRIPTION:Prayer &amp\; Praise Service
LAST-MODIFIED:20260423T084538
LOCATION:6060 N U.S. Highway 31 Columbus\, IN 47201
SUMMARY:Prayer & Praise Service
URL;VALUE=URI:https://www.bethelholiness.com/events/prayer-praise-service/2
 026-09-16
END:VEVENT
END:VCALENDAR
