BEGIN:VCALENDAR
VERSION:2.0
PRODID:icalendar-ruby
CALSCALE:GREGORIAN
METHOD:PUBLISH
BEGIN:VEVENT
DTSTAMP:20260423T171048Z
UID:12-320736@bethelholiness.com
DTSTART:20260923T220000Z
DTEND:20260923T230000Z
CLASS:PUBLIC
CREATED:20260423T113802
DESCRIPTION:Prayer &amp\; Praise Service
LAST-MODIFIED:20260423T113802
LOCATION:6060 N U.S. Highway 31 Columbus\, IN 47201
SUMMARY:Prayer & Praise Service
URL;VALUE=URI:https://www.bethelholiness.com/events/prayer-praise-service/2
 026-09-23
END:VEVENT
END:VCALENDAR
