BEGIN:VCALENDAR
VERSION:2.0
PRODID:icalendar-ruby
CALSCALE:GREGORIAN
METHOD:PUBLISH
BEGIN:VEVENT
DTSTAMP:20260424T031650Z
UID:12-321321@bethelholiness.com
DTSTART:20261104T230000Z
DTEND:20261105T000000Z
CLASS:PUBLIC
CREATED:20260423T202234
DESCRIPTION:Prayer &amp\; Praise Service
LAST-MODIFIED:20260423T202234
LOCATION:6060 N U.S. Highway 31 Columbus\, IN 47201
SUMMARY:Prayer & Praise Service
URL;VALUE=URI:https://www.bethelholiness.com/events/prayer-praise-service/2
 026-11-04
END:VEVENT
END:VCALENDAR
